data_image0
_chemical_formula_structural       Bi2Te3
_chemical_formula_sum              "Bi2 Te3"
_cell_length_a       10.6967
_cell_length_b       10.6967
_cell_length_c       10.6967
_cell_angle_alpha    24.0085
_cell_angle_beta     24.0085
_cell_angle_gamma    24.0085

_space_group_name_H-M_alt    "P 1"
_space_group_IT_number       1

loop_
  _space_group_symop_operation_xyz
  'x, y, z'

loop_
  _atom_site_type_symbol
  _atom_site_label
  _atom_site_symmetry_multiplicity
  _atom_site_fract_x
  _atom_site_fract_y
  _atom_site_fract_z
  _atom_site_occupancy
  Bi  Bi1       1.0  0.60074  0.60074  0.60074  1.0000
  Bi  Bi2       1.0  0.39926  0.39926  0.39926  1.0000
  Te  Te1       1.0  0.78816  0.78816  0.78816  1.0000
  Te  Te2       1.0  0.00000  0.00000  0.00000  1.0000
  Te  Te3       1.0  0.21184  0.21184  0.21184  1.0000
